BEGIN:VCALENDAR
VERSION:2.0
PRODID:-//eventon.com NONSGML v1.0//EN
CALSCALE:GREGORIAN
METHOD:PUBLISH
BEGIN:VEVENT
UID:69eb1456d04ef
DTSTAMP:20260424T065726Z
DTSTART:20150829T190000Z
DTEND:20150829T010000Z
LOCATION:Saratoga National Golf Club 458 Union Ave.\,  Saratoga Springs\,  NY 12866
SUMMARY:Travers Day Party (Sorry - this event is SOLD OUT!!)
DESCRIPTION:\nhttps://vintagedrummerny.com/archives/events/travers-day-part
 y-sold-out
URL:https://vintagedrummerny.com/archives/events/travers-day-party-sold-out
END:VEVENT
END:VCALENDAR