BEGIN:VCALENDAR
VERSION:2.0
PRODID:-//eventon.com NONSGML v1.0//EN
CALSCALE:GREGORIAN
METHOD:PUBLISH
BEGIN:VEVENT
UID:69eb14c45156f
DTSTAMP:20260424T065916Z
DTSTART:20150813T200000Z
DTEND:20150813T010000Z
LOCATION:Dango&#039;s 38 Caroline St.\,  Saratoga Springs\,  NY 12866
SUMMARY:Dango's (early start!!)
DESCRIPTION:\nhttps://vintagedrummerny.com/archives/events/dangos
URL:https://vintagedrummerny.com/archives/events/dangos
END:VEVENT
END:VCALENDAR