BEGIN:VCALENDAR
VERSION:2.0
PRODID:-//eventon.com NONSGML v1.0//EN
CALSCALE:GREGORIAN
METHOD:PUBLISH
BEGIN:VEVENT
UID:69eb14bd14f85
DTSTAMP:20260424T065909Z
DTSTART:20150101T160000Z
DTEND:20150101T200000Z
LOCATION:King Neptune&#039;s 1 Kurosaka Ln.\,  Lake George\,  NY 12845
SUMMARY:King Neptune's - Frostbite Cruise After Party
DESCRIPTION:     \nhttps://vintagedrummerny.com/archives/events/frostbit
 e-cruise-after-party
URL:https://vintagedrummerny.com/archives/events/frostbite-cruise-after-party
END:VEVENT
END:VCALENDAR